BEGIN:VCALENDAR
VERSION:2.0
PRODID:-//ddaysoftware.com//NONSGML DDay.iCal 1.0//EN
BEGIN:VTIMEZONE
TZID:W. Europe Standard Time
BEGIN:STANDARD
DTSTART:20251002T030000
RRULE:FREQ=YEARLY;BYDAY=-1SU;BYHOUR=3;BYMINUTE=0;BYMONTH=10
TZNAME:Mitteleuropäische Zeit
TZOFFSETFROM:+0200
TZOFFSETTO:+0100
END:STANDARD
BEGIN:DAYLIGHT
DTSTART:20250301T020000
RRULE:FREQ=YEARLY;BYDAY=-1SU;BYHOUR=2;BYMINUTE=0;BYMONTH=3
TZNAME:Mitteleuropäische Sommerzeit
TZOFFSETFROM:+0100
TZOFFSETTO:+0200
END:DAYLIGHT
END:VTIMEZONE
BEGIN:VEVENT
CATEGORIES:Versammlung
DESCRIPTION:Im Feuerwehrauto geht es zum Hangar des Rettungshubschraubers C
 hristoph 32 nach Ingolstadt. Anmeldung unter frauen@ff-wettstetten.de oder
  die Social Media Kanäle der FF Wettstetten.\n\nhttps://www.wettstetten.de
 /bildung-kultur/veranstaltungskalender/1800-uhr-besuch-des-rettungshubschr
 aubers-christoph-32/
DTEND;VALUE=DATE:20251110
DTSTAMP:20260420T165959Z
DTSTART;VALUE=DATE:20251109
SEQUENCE:0
SUMMARY:18.00 Uhr: Besuch des Rettungshubschraubers Christoph 32
UID:9814
URL:https://www.wettstetten.de/bildung-kultur/veranstaltungskalender/1800-u
 hr-besuch-des-rettungshubschraubers-christoph-32/
END:VEVENT
END:VCALENDAR
