BEGIN:VCALENDAR
VERSION:2.0
PRODID:-//ddaysoftware.com//NONSGML DDay.iCal 1.0//EN
BEGIN:VTIMEZONE
TZID:W. Europe Standard Time
BEGIN:STANDARD
DTSTART:20251002T030000
RRULE:FREQ=YEARLY;BYDAY=-1SU;BYHOUR=3;BYMINUTE=0;BYMONTH=10
TZNAME:Mitteleuropäische Zeit
TZOFFSETFROM:+0200
TZOFFSETTO:+0100
END:STANDARD
BEGIN:DAYLIGHT
DTSTART:20250301T020000
RRULE:FREQ=YEARLY;BYDAY=-1SU;BYHOUR=2;BYMINUTE=0;BYMONTH=3
TZNAME:Mitteleuropäische Sommerzeit
TZOFFSETFROM:+0100
TZOFFSETTO:+0200
END:DAYLIGHT
END:VTIMEZONE
BEGIN:VEVENT
CATEGORIES:Feste
DESCRIPTION:Tag der offenen Tür\n\nhttps://www.wettstetten.de/bildung-kultu
 r/veranstaltungskalender/hoffest-2025/
DTEND;VALUE=DATE:20250922
DTSTAMP:20260420T130827Z
DTSTART;VALUE=DATE:20250921
SEQUENCE:0
SUMMARY:Hoffest 2025
UID:9680
URL:https://www.wettstetten.de/bildung-kultur/veranstaltungskalender/hoffes
 t-2025/
END:VEVENT
END:VCALENDAR
