BEGIN:VCALENDAR
VERSION:2.0
PRODID:-//ddaysoftware.com//NONSGML DDay.iCal 1.0//EN
BEGIN:VTIMEZONE
TZID:W. Europe Standard Time
BEGIN:STANDARD
DTSTART:20251002T030000
RRULE:FREQ=YEARLY;BYDAY=-1SU;BYHOUR=3;BYMINUTE=0;BYMONTH=10
TZNAME:Mitteleuropäische Zeit
TZOFFSETFROM:+0200
TZOFFSETTO:+0100
END:STANDARD
BEGIN:DAYLIGHT
DTSTART:20250301T020000
RRULE:FREQ=YEARLY;BYDAY=-1SU;BYHOUR=2;BYMINUTE=0;BYMONTH=3
TZNAME:Mitteleuropäische Sommerzeit
TZOFFSETFROM:+0100
TZOFFSETTO:+0200
END:DAYLIGHT
END:VTIMEZONE
BEGIN:VEVENT
CATEGORIES:Versammlung
DESCRIPTION:Maibaumaufstellen und Bekanntgabe der Gewinner des Bürgerschieß
 ens\n\nhttps://www.wettstetten.de/bildung-kultur/veranstaltungskalender/ma
 ibaumaufstellen-und-preisverleihung-des-buergerschiessens/
DTEND;VALUE=DATE:20260502
DTSTAMP:20260420T095202Z
DTSTART;VALUE=DATE:20260501
SEQUENCE:0
SUMMARY:Maibaumaufstellen und Preisverleihung des Bürgerschießens
UID:9881
URL:https://www.wettstetten.de/bildung-kultur/veranstaltungskalender/maibau
 maufstellen-und-preisverleihung-des-buergerschiessens/
END:VEVENT
BEGIN:VEVENT
CATEGORIES:Versammlung
DESCRIPTION:19 Uhr\n\nhttps://www.wettstetten.de/bildung-kultur/veranstaltu
 ngskalender/rk-abend-13/
DTEND;VALUE=DATE:20260708
DTSTAMP:20260420T095202Z
DTSTART;VALUE=DATE:20260707
SEQUENCE:0
SUMMARY:RK Abend
UID:9784
URL:https://www.wettstetten.de/bildung-kultur/veranstaltungskalender/rk-abe
 nd-13/
END:VEVENT
BEGIN:VEVENT
CATEGORIES:Versammlung
DESCRIPTION:19 Uhr\n\nhttps://www.wettstetten.de/bildung-kultur/veranstaltu
 ngskalender/rk-abend-12/
DTEND;VALUE=DATE:20260805
DTSTAMP:20260420T095202Z
DTSTART;VALUE=DATE:20260804
SEQUENCE:0
SUMMARY:RK Abend
UID:9782
URL:https://www.wettstetten.de/bildung-kultur/veranstaltungskalender/rk-abe
 nd-12/
END:VEVENT
BEGIN:VEVENT
CATEGORIES:Versammlung
DESCRIPTION:19 Uhr\n\nhttps://www.wettstetten.de/bildung-kultur/veranstaltu
 ngskalender/rk-abend-11/
DTEND;VALUE=DATE:20260902
DTSTAMP:20260420T095202Z
DTSTART;VALUE=DATE:20260901
SEQUENCE:0
SUMMARY:RK Abend
UID:9780
URL:https://www.wettstetten.de/bildung-kultur/veranstaltungskalender/rk-abe
 nd-11/
END:VEVENT
BEGIN:VEVENT
CATEGORIES:Versammlung
DESCRIPTION:Mountainbikerennen - weitere Infos auf der RVW Homepage (https:
 //www.rv-wettstetten.de/day-of-bike/programm/)\n\nhttps://www.wettstetten.
 de/bildung-kultur/veranstaltungskalender/day-of-bike-mountainbikerennen-2/
DTEND;VALUE=DATE:20260913
DTSTAMP:20260420T095202Z
DTSTART;VALUE=DATE:20260912
SEQUENCE:0
SUMMARY:Day of Bike - Mountainbikerennen
UID:9837
URL:https://www.wettstetten.de/bildung-kultur/veranstaltungskalender/day-of
 -bike-mountainbikerennen-2/
END:VEVENT
BEGIN:VEVENT
CATEGORIES:Versammlung
DESCRIPTION:19 Uhr\n\nhttps://www.wettstetten.de/bildung-kultur/veranstaltu
 ngskalender/rk-abend-10/
DTEND;VALUE=DATE:20261007
DTSTAMP:20260420T095202Z
DTSTART;VALUE=DATE:20261006
SEQUENCE:0
SUMMARY:RK Abend
UID:9778
URL:https://www.wettstetten.de/bildung-kultur/veranstaltungskalender/rk-abe
 nd-10/
END:VEVENT
BEGIN:VEVENT
CATEGORIES:Versammlung
DESCRIPTION:KAB Frühschoppen mit gemütlichem Beisammensein\n\nhttps://www.w
 ettstetten.de/bildung-kultur/veranstaltungskalender/kab-fruehschoppen/
DTEND;VALUE=DATE:20261012
DTSTAMP:20260420T095202Z
DTSTART;VALUE=DATE:20261011
SEQUENCE:0
SUMMARY:KAB Frühschoppen
UID:9899
URL:https://www.wettstetten.de/bildung-kultur/veranstaltungskalender/kab-fr
 uehschoppen/
END:VEVENT
BEGIN:VEVENT
CATEGORIES:Versammlung
DESCRIPTION:KAB Kaffee mit Basar mit Waren aus dem Eine-Welt-Laden und Hand
 -in-Hand-Laden\n\nhttps://www.wettstetten.de/bildung-kultur/veranstaltungs
 kalender/kab-kaffee-mit-basar-2/
DTEND;VALUE=DATE:20261026
DTSTAMP:20260420T095202Z
DTSTART;VALUE=DATE:20261025
SEQUENCE:0
SUMMARY:KAB Kaffee mit Basar
UID:9898
URL:https://www.wettstetten.de/bildung-kultur/veranstaltungskalender/kab-ka
 ffee-mit-basar-2/
END:VEVENT
BEGIN:VEVENT
CATEGORIES:Versammlung
DESCRIPTION:19 Uhr\n\nhttps://www.wettstetten.de/bildung-kultur/veranstaltu
 ngskalender/rk-abend-9/
DTEND;VALUE=DATE:20261104
DTSTAMP:20260420T095202Z
DTSTART;VALUE=DATE:20261103
SEQUENCE:0
SUMMARY:RK Abend
UID:9777
URL:https://www.wettstetten.de/bildung-kultur/veranstaltungskalender/rk-abe
 nd-9/
END:VEVENT
BEGIN:VEVENT
CATEGORIES:Versammlung
DESCRIPTION:\n\nVeranstalter: Gemeinde Wettstetten\n\nhttps://www.wettstett
 en.de/bildung-kultur/veranstaltungskalender/buergerversammlung-wettstetten
 -2/
DTEND:20261109T210000
DTSTAMP:20260420T095202Z
DTSTART:20261109T190000
LOCATION:Bürgersaal: Kirchplatz 10\, 85139 Wettstetten
SEQUENCE:0
SUMMARY:Bürgerversammlung Wettstetten
UID:9910
URL:https://www.wettstetten.de/bildung-kultur/veranstaltungskalender/buerge
 rversammlung-wettstetten-2/
END:VEVENT
BEGIN:VEVENT
CATEGORIES:Versammlung
DESCRIPTION:\n\nVeranstalter: Gemeinde Wettstetten\n\nhttps://www.wettstett
 en.de/bildung-kultur/veranstaltungskalender/buergerversammlung-echenzell-2
 /
DTEND:20261113T210000
DTSTAMP:20260420T095202Z
DTSTART:20261113T190000
LOCATION:Feuerwehrhaus Echenzell: Wettstettener Straße 6 A\, 85139 Wettstet
 ten - Echenzell
SEQUENCE:0
SUMMARY:Bürgerversammlung Echenzell
UID:9911
URL:https://www.wettstetten.de/bildung-kultur/veranstaltungskalender/buerge
 rversammlung-echenzell-2/
END:VEVENT
BEGIN:VEVENT
CATEGORIES:Versammlung
DESCRIPTION:Beginn gemäß Einladung\n\nhttps://www.wettstetten.de/bildung-ku
 ltur/veranstaltungskalender/feierlichkeit-zum-volkstrauertag-2/
DTEND;VALUE=DATE:20261115
DTSTAMP:20260420T095202Z
DTSTART;VALUE=DATE:20261114
SEQUENCE:0
SUMMARY:Feierlichkeit zum Volkstrauertag
UID:9776
URL:https://www.wettstetten.de/bildung-kultur/veranstaltungskalender/feierl
 ichkeit-zum-volkstrauertag-2/
END:VEVENT
BEGIN:VEVENT
CATEGORIES:Versammlung
DESCRIPTION:19 Uhr\n\nhttps://www.wettstetten.de/bildung-kultur/veranstaltu
 ngskalender/rk-abend-8/
DTEND;VALUE=DATE:20261202
DTSTAMP:20260420T095202Z
DTSTART;VALUE=DATE:20261201
SEQUENCE:0
SUMMARY:RK Abend
UID:9775
URL:https://www.wettstetten.de/bildung-kultur/veranstaltungskalender/rk-abe
 nd-8/
END:VEVENT
BEGIN:VEVENT
CATEGORIES:Versammlung
DESCRIPTION:Jahresabschluss am Lagerfeuer\n\nhttps://www.wettstetten.de/bil
 dung-kultur/veranstaltungskalender/jahresabschlussfeier-4/
DTEND;VALUE=DATE:20261206
DTSTAMP:20260420T095202Z
DTSTART;VALUE=DATE:20261205
SEQUENCE:0
SUMMARY:Jahresabschlussfeier
UID:9821
URL:https://www.wettstetten.de/bildung-kultur/veranstaltungskalender/jahres
 abschlussfeier-4/
END:VEVENT
BEGIN:VEVENT
CATEGORIES:Versammlung
DESCRIPTION:Beginn nach Bekanntgabe\n\nhttps://www.wettstetten.de/bildung-k
 ultur/veranstaltungskalender/srk-rk-weihnachtsfeier/
DTEND;VALUE=DATE:20261213
DTSTAMP:20260420T095202Z
DTSTART;VALUE=DATE:20261212
SEQUENCE:0
SUMMARY:SRK - RK Weihnachtsfeier
UID:9774
URL:https://www.wettstetten.de/bildung-kultur/veranstaltungskalender/srk-rk
 -weihnachtsfeier/
END:VEVENT
BEGIN:VEVENT
CATEGORIES:Versammlung
DESCRIPTION:RVW Jahresabschluss\n\nhttps://www.wettstetten.de/bildung-kultu
 r/veranstaltungskalender/rvw-weihnachtsfeier/
DTEND;VALUE=DATE:20261220
DTSTAMP:20260420T095202Z
DTSTART;VALUE=DATE:20261219
SEQUENCE:0
SUMMARY:RVW Weihnachtsfeier
UID:9835
URL:https://www.wettstetten.de/bildung-kultur/veranstaltungskalender/rvw-we
 ihnachtsfeier/
END:VEVENT
END:VCALENDAR
