BEGIN:VCALENDAR
VERSION:2.0
PRODID:-//ddaysoftware.com//NONSGML DDay.iCal 1.0//EN
BEGIN:VTIMEZONE
TZID:W. Europe Standard Time
BEGIN:STANDARD
DTSTART:20251002T030000
RRULE:FREQ=YEARLY;BYDAY=-1SU;BYHOUR=3;BYMINUTE=0;BYMONTH=10
TZNAME:Mitteleuropäische Zeit
TZOFFSETFROM:+0200
TZOFFSETTO:+0100
END:STANDARD
BEGIN:DAYLIGHT
DTSTART:20250301T020000
RRULE:FREQ=YEARLY;BYDAY=-1SU;BYHOUR=2;BYMINUTE=0;BYMONTH=3
TZNAME:Mitteleuropäische Sommerzeit
TZOFFSETFROM:+0100
TZOFFSETTO:+0200
END:DAYLIGHT
END:VTIMEZONE
BEGIN:VEVENT
CATEGORIES:Sonstige
DESCRIPTION:Beginn: ab 10.00 Uhr mit der Jugendbeauftragten\n\nVeranstalter
 : Gemeinde Wettstetten\n\nhttps://www.wettstetten.de/bildung-kultur/verans
 taltungskalender/ostereier-suchaktion-an-der-obstplantage-mit-kaffee-kuche
 n/
DTEND:20250412T110000
DTSTAMP:20260420T131705Z
DTSTART:20250412T100000
LOCATION:Festwiese hinterhalb Gewerbegebiet I: 85139 Wettstetten
SEQUENCE:0
SUMMARY:Ostereier-Suchaktion an der Obstplantage mit Kaffee & Kuchen
UID:9400
URL:https://www.wettstetten.de/bildung-kultur/veranstaltungskalender/ostere
 ier-suchaktion-an-der-obstplantage-mit-kaffee-kuchen/
END:VEVENT
END:VCALENDAR
