BEGIN:VCALENDAR
VERSION:2.0
PRODID:-//ddaysoftware.com//NONSGML DDay.iCal 1.0//EN
BEGIN:VTIMEZONE
TZID:W. Europe Standard Time
BEGIN:STANDARD
DTSTART:20251002T030000
RRULE:FREQ=YEARLY;BYDAY=-1SU;BYHOUR=3;BYMINUTE=0;BYMONTH=10
TZNAME:Mitteleuropäische Zeit
TZOFFSETFROM:+0200
TZOFFSETTO:+0100
END:STANDARD
BEGIN:DAYLIGHT
DTSTART:20250301T020000
RRULE:FREQ=YEARLY;BYDAY=-1SU;BYHOUR=2;BYMINUTE=0;BYMONTH=3
TZNAME:Mitteleuropäische Sommerzeit
TZOFFSETFROM:+0100
TZOFFSETTO:+0200
END:DAYLIGHT
END:VTIMEZONE
BEGIN:VEVENT
CATEGORIES:Versammlung
DESCRIPTION:!\n\nhttps://www.wettstetten.de/bildung-kultur/veranstaltungska
 lender/patroziniumsfest-3/
DTEND;VALUE=DATE:20251110
DTSTAMP:20260420T130416Z
DTSTART;VALUE=DATE:20251109
SEQUENCE:0
SUMMARY:Patroziniumsfest
UID:9307
URL:https://www.wettstetten.de/bildung-kultur/veranstaltungskalender/patroz
 iniumsfest-3/
END:VEVENT
END:VCALENDAR
