BEGIN:VCALENDAR
VERSION:2.0
PRODID:-//ddaysoftware.com//NONSGML DDay.iCal 1.0//EN
BEGIN:VTIMEZONE
TZID:W. Europe Standard Time
BEGIN:STANDARD
DTSTART:20251002T030000
RRULE:FREQ=YEARLY;BYDAY=-1SU;BYHOUR=3;BYMINUTE=0;BYMONTH=10
TZNAME:Mitteleuropäische Zeit
TZOFFSETFROM:+0200
TZOFFSETTO:+0100
END:STANDARD
BEGIN:DAYLIGHT
DTSTART:20250301T020000
RRULE:FREQ=YEARLY;BYDAY=-1SU;BYHOUR=2;BYMINUTE=0;BYMONTH=3
TZNAME:Mitteleuropäische Sommerzeit
TZOFFSETFROM:+0100
TZOFFSETTO:+0200
END:DAYLIGHT
END:VTIMEZONE
BEGIN:VEVENT
CATEGORIES:Versammlung
DESCRIPTION:Gedenkmesse zu Ehren der verstorbenen Vereinsmitglieder. Anschl
 ießend traditionelles Pokalschießen\n\nhttps://www.wettstetten.de/bildung-
 kultur/veranstaltungskalender/sebastimesse-pokalschiessen/
DTEND;VALUE=DATE:20250119
DTSTAMP:20260420T130535Z
DTSTART;VALUE=DATE:20250118
SEQUENCE:0
SUMMARY:Sebastimesse & Pokalschießen
UID:9418
URL:https://www.wettstetten.de/bildung-kultur/veranstaltungskalender/sebast
 imesse-pokalschiessen/
END:VEVENT
END:VCALENDAR
